BEGIN:VCALENDAR
VERSION:2.0
PRODID:-//176.9.24.82//NONSGML kigkonsult.se iCalcreator 2.20//
CALSCALE:GREGORIAN
METHOD:PUBLISH
X-WR-TIMEZONE:Europe/Copenhagen
BEGIN:VEVENT
UID:event31@Dansk Elektrokemisk Forening
DTSTAMP:20260422T114032Z
CATEGORIES:Andre arrangementer
DESCRIPTION:DEF Webinar May 2026\nCategory: Andre arrangementer\nLink: http
 s://electrochemistry.dk/index.php?option=com_jem&view=event&id=31:def-webi
 nar-may-2026\n
DTSTART;TZID=Europe/Copenhagen:20260505T120000
DTEND;TZID=Europe/Copenhagen:20260505T124500
LOCATION:Online
SUMMARY:DEF Webinar May 2026
URL:https://electrochemistry.dk/index.php?option=com_jem&view=event&id=31:d
 ef-webinar-may-2026
END:VEVENT
END:VCALENDAR