BEGIN:VCALENDAR
VERSION:2.0
PRODID:-//176.9.24.82//NONSGML kigkonsult.se iCalcreator 2.20//
CALSCALE:GREGORIAN
METHOD:PUBLISH
X-WR-TIMEZONE:Europe/Copenhagen
BEGIN:VEVENT
UID:event29@Dansk Elektrokemisk Forening
DTSTAMP:20260423T102154Z
CATEGORIES:Andre arrangementer
DESCRIPTION:Electrochemistry Oriented Material R&D for Hydrogen Technologie
 s\nCategory: Andre arrangementer\nLink: https://electrochemistry.dk/index.
 php?option=com_jem&view=event&id=29:electrochemistry-oriented-material-r-d
 -for-hydrogen-technologies\n
DTSTART;VALUE=DATE:20250512
DTEND;VALUE=DATE:20250513
LOCATION:Online
SUMMARY:Electrochemistry Oriented Material R&D for Hydrogen Technologies
URL:https://electrochemistry.dk/index.php?option=com_jem&view=event&id=29:e
 lectrochemistry-oriented-material-r-d-for-hydrogen-technologies
END:VEVENT
END:VCALENDAR