BEGIN:VCALENDAR
VERSION:2.0
PRODID:-//176.9.24.82//NONSGML kigkonsult.se iCalcreator 2.20//
CALSCALE:GREGORIAN
METHOD:PUBLISH
X-WR-TIMEZONE:Europe/Copenhagen
BEGIN:VEVENT
UID:event28@Dansk Elektrokemisk Forening
DTSTAMP:20260423T102243Z
CATEGORIES:DEF åbne arrangementer
DESCRIPTION:General Assembly of the Danish Electrochemical Society\nCategor
 y: DEF åbne arrangementer\nLink: https://electrochemistry.dk/index.php?opt
 ion=com_jem&view=event&id=28:general-assembly-of-the-danish-electrochemica
 l-society\n
DTSTART;TZID=Europe/Copenhagen:20231102T170000
DTEND;TZID=Europe/Copenhagen:20231102T180000
LOCATION:DTU Hovedbygning\,Anker Engelunds Vej 1\,2800 Lyngby
SUMMARY:General Assembly of the Danish Electrochemical Society
URL:https://electrochemistry.dk/index.php?option=com_jem&view=event&id=28:g
 eneral-assembly-of-the-danish-electrochemical-society
END:VEVENT
END:VCALENDAR