BEGIN:VCALENDAR
VERSION:2.0
PRODID:-//176.9.24.82//NONSGML kigkonsult.se iCalcreator 2.20//
CALSCALE:GREGORIAN
METHOD:PUBLISH
X-WR-TIMEZONE:Europe/Copenhagen
BEGIN:VEVENT
UID:event26@Dansk Elektrokemisk Forening
DTSTAMP:20260422T103023Z
CATEGORIES:DEF konferencer
DESCRIPTION:General Assembly 2021 of the Danish Electrochemical Society\nCa
 tegory: DEF konferencer\nLink: https://electrochemistry.dk/index.php?optio
 n=com_jem&view=event&id=26:general-assembly-2021-of-the-danish-electrochem
 ical-society\n
DTSTART;TZID=Europe/Copenhagen:20211108T170000
DTEND;TZID=Europe/Copenhagen:20211108T180000
SUMMARY:General Assembly 2021 of the Danish Electrochemical Society
URL:https://electrochemistry.dk/index.php?option=com_jem&view=event&id=26:g
 eneral-assembly-2021-of-the-danish-electrochemical-society
END:VEVENT
END:VCALENDAR