BEGIN:VCALENDAR
VERSION:2.0
PRODID:-//176.9.24.82//NONSGML kigkonsult.se iCalcreator 2.20//
CALSCALE:GREGORIAN
METHOD:PUBLISH
X-WR-TIMEZONE:Europe/Copenhagen
BEGIN:VEVENT
UID:event18@Dansk Elektrokemisk Forening
DTSTAMP:20260422T113242Z
CATEGORIES:DEF konferencer
DESCRIPTION:DEF Annual Meeting 2016\nCategory: DEF konferencer\nLink: https
 ://electrochemistry.dk/index.php?option=com_jem&view=event&id=18:def-annua
 l-meeting-2016\n
DTSTART;VALUE=DATE:20161013
DTEND;VALUE=DATE:20161015
LOCATION:Nyborg Strand\,Østerøvej 2\,5800 Nyborg
SUMMARY:DEF Annual Meeting 2016
URL:https://electrochemistry.dk/index.php?option=com_jem&view=event&id=18:d
 ef-annual-meeting-2016
END:VEVENT
END:VCALENDAR